BEGIN:VCALENDAR
VERSION:2.0
PRODID:-//eventon.com NONSGML v1.0//EN
CALSCALE:GREGORIAN
METHOD:PUBLISH
BEGIN:VEVENT
UID:69e691d1c8c40
DTSTAMP:20260420T205129Z
DTSTART:20180609T163000Z
DTEND:20180609T235900Z
LOCATION:
SUMMARY:Picknick in Rot-Weiss
DESCRIPTION:Picknick in Rot-Weiss\nhttps://www.weiblicher.ch/events/picknic
 k-in-rot-weiss/
URL:https://www.weiblicher.ch/events/picknick-in-rot-weiss/
END:VEVENT
END:VCALENDAR