BEGIN:VCALENDAR
VERSION:2.0
PRODID:-//eventon.com NONSGML v1.0//EN
CALSCALE:GREGORIAN
METHOD:PUBLISH
BEGIN:VEVENT
UID:69e54e6f098da
DTSTAMP:20260419T215143Z
DTSTART:20181201T200000Z
DTEND:20181202T030000Z
LOCATION:
SUMMARY:Zeit zum länger Einkaufen!
DESCRIPTION:Zeit zum länger Einkaufen!\nhttps://www.weiblicher.ch/events/z
 eit-zum-laenger-einkaufen/
URL:https://www.weiblicher.ch/events/zeit-zum-laenger-einkaufen/
END:VEVENT
END:VCALENDAR