BEGIN:VCALENDAR
VERSION:2.0
PRODID:-//eventon.com NONSGML v1.0//EN
CALSCALE:GREGORIAN
METHOD:PUBLISH
BEGIN:VEVENT
UID:69e72287ca6a2
DTSTAMP:20260421T070855Z
DTSTART:20181224T090000Z
DTEND:20181224T160000Z
LOCATION:
SUMMARY:Zeit für letzte Weihnachtseinkäufe!
DESCRIPTION:Zeit für letzte Weihnachtseinkäufe!\nhttps://www.weiblicher.c
 h/events/zeit-fuer-letzte-weihnachtseinkaeufe/
URL:https://www.weiblicher.ch/events/zeit-fuer-letzte-weihnachtseinkaeufe/
END:VEVENT
END:VCALENDAR