BEGIN:VCALENDAR
VERSION:2.0
PRODID:-//eventon.com NONSGML v1.0//EN
CALSCALE:GREGORIAN
METHOD:PUBLISH
BEGIN:VEVENT
UID:69e73f3dd1657
DTSTAMP:20260421T091125Z
DTSTART:20240528T080000Z
DTEND:20240604T173000Z
LOCATION:
SUMMARY:28. Mai bis und mit 4. Juni 2024 ist das Atelier wegen Weiterbildung geschlossen.
DESCRIPTION:28. Mai bis und mit 4. Juni 2024 ist das Atelier wegen Weiterbi
 ldung geschlossen.\nhttps://www.weiblicher.ch/events/28-mai-bis-und-mit-4-j
 uni-2024-ist-das-atelier-wegen-weiterbildung-geschlossen/
URL:https://www.weiblicher.ch/events/28-mai-bis-und-mit-4-juni-2024-ist-das-atelier-wegen-weiterbildung-geschlossen/
END:VEVENT
END:VCALENDAR