BEGIN:VCALENDAR
VERSION:2.0
PRODID:-//eventon.com NONSGML v1.0//EN
CALSCALE:GREGORIAN
METHOD:PUBLISH
BEGIN:VEVENT
UID:69e996f338093
DTSTAMP:20260423T035011Z
DTSTART:20251225T150000Z
DTEND:20260105T225900Z
LOCATION:
SUMMARY:Geschlossen von 25.12.2025 - 5.01.2026
DESCRIPTION:Geschlossen von 25.12.2025 - 5.01.2026\nhttps://www.weiblicher.
 ch/events/geschlossen-von-25-12-2022-30-01-2023/
URL:https://www.weiblicher.ch/events/geschlossen-von-25-12-2022-30-01-2023/
END:VEVENT
END:VCALENDAR